BEGIN:VCALENDAR
VERSION:2.0
PRODID:-//ChamberMaster//Event Calendar 2.0//EN
METHOD:PUBLISH
X-PUBLISHED-TTL:P1H
REFRESH-INTERVAL:P1H
CALSCALE:GREGORIAN
BEGIN:VTIMEZONE
TZID:America/New_York
BEGIN:DAYLIGHT
RRULE:FREQ=YEARLY;BYMONTH=3;BYDAY=2SU
DTSTART:20070101T000000
TZOFFSETFROM:-0500
TZOFFSETTO:-0400
TZNAME:Eastern Daylight Time
END:DAYLIGHT
BEGIN:STANDARD
RRULE:FREQ=YEARLY;BYMONTH=11;BYDAY=1SU
DTSTART:20070101T000000
TZOFFSETFROM:-0400
TZOFFSETTO:-0500
TZNAME:Eastern Standard Time
END:STANDARD
END:VTIMEZONE
BEGIN:VEVENT
DTSTART;TZID=America/New_York:20261006T000000
DTEND;TZID=America/New_York:20261006T230000
X-MICROSOFT-CDO-ALLDAYEVENT:FALSE
SUMMARY:2026-27 Academy for Women Leaders
DESCRIPTION:AESA's Academy for Women Leaders is a yearlong journey designed for ESA women superintendents\, executive directors\, deputy superintendents\, and others in similar positions who are ready to grow\, collaborate\, and thrive.Through powerful in-person gatherings\, virtual learning\, personalized coaching\, and meaningful peer connections\, this Academy empowers women to lead with clarity\, confidence\, and care.
X-ALT-DESC;FMTTYPE=text/html:<!DOCTYPE html><html><head><title></title></head><body aria-disabled="false" data-gr-ext-disabled="forever" data-gr-ext-installed="" data-new-gr-c-s-check-loaded="14.1240.0" data-new-gr-c-s-loaded="14.1240.0"><p style="box-sizing: border-box\; margin: 0px 0px 10px\; color: rgb(65\, 65\, 66)\; font-family: Lato\, sans-serif\; font-size: 16px\; font-style: normal\; font-variant-ligatures: normal\; font-variant-caps: normal\; font-weight: 400\; letter-spacing: normal\; orphans: 2\; text-align: start\; text-indent: 0px\; text-transform: none\; widows: 2\; word-spacing: 0px\; -webkit-text-stroke-width: 0px\; white-space: normal\; background-color: rgb(255\, 255\, 255)\; text-decoration-thickness: initial\; text-decoration-style: initial\; text-decoration-color: initial\;">AESA&rsquo\;s Academy for Women Leaders is a yearlong journey designed for ESA women superintendents\, executive directors\, deputy superintendents\, and others in similar positions who are ready to grow\, collaborate\, and thrive.</p><p style="box-sizing: border-box\; margin: 0px 0px 10px\; color: rgb(65\, 65\, 66)\; font-family: Lato\, sans-serif\; font-size: 16px\; font-style: normal\; font-variant-ligatures: normal\; font-variant-caps: normal\; font-weight: 400\; letter-spacing: normal\; orphans: 2\; text-align: start\; text-indent: 0px\; text-transform: none\; widows: 2\; word-spacing: 0px\; -webkit-text-stroke-width: 0px\; white-space: normal\; background-color: rgb(255\, 255\, 255)\; text-decoration-thickness: initial\; text-decoration-style: initial\; text-decoration-color: initial\;">Through powerful in-person gatherings\, virtual learning\, personalized coaching\, and meaningful peer connections\, this Academy empowers women to lead with clarity\, confidence\, and care.</p></body></html>
LOCATION:
UID:e.3050.1409759
SEQUENCE:3
DTSTAMP:20260420T021616Z
URL:https://members.aesa.us/calendar/Details/2026-27-academy-for-women-leaders-1665991?sourceTypeId=Hub
END:VEVENT
END:VCALENDAR
